BEGIN:VCALENDAR
VERSION:2.0
PRODID:-//Mers-les-Bains - ECPv6.5.1.6//NONSGML v1.0//EN
CALSCALE:GREGORIAN
METHOD:PUBLISH
X-ORIGINAL-URL:https://www.merslesbains.fr
X-WR-CALDESC:évènements pour Mers-les-Bains
REFRESH-INTERVAL;VALUE=DURATION:PT1H
X-Robots-Tag:noindex
X-PUBLISHED-TTL:PT1H
BEGIN:VTIMEZONE
TZID:Europe/Helsinki
BEGIN:DAYLIGHT
TZOFFSETFROM:+0200
TZOFFSETTO:+0300
TZNAME:EEST
DTSTART:20250330T010000
END:DAYLIGHT
BEGIN:STANDARD
TZOFFSETFROM:+0300
TZOFFSETTO:+0200
TZNAME:EET
DTSTART:20251026T010000
END:STANDARD
END:VTIMEZONE
BEGIN:VEVENT
DTSTART;VALUE=DATE:20250516
DTEND;VALUE=DATE:20250616
DTSTAMP:20260421T043913
CREATED:20250521T142442Z
LAST-MODIFIED:20250521T142442Z
UID:27829-1747353600-1750031999@www.merslesbains.fr
SUMMARY:Exposition Jean Dometti
DESCRIPTION:Exposition Jean Dometti du 16 mai au 15 juin à la médiathèque. \n 
URL:https://www.merslesbains.fr/event/exposition-jean-dometti/
LOCATION:Médiathèque\, rue Paul Doumer\, Mers-Les-Bains\, Picardie\, 80350\, France
ATTACH;FMTTYPE=image/jpeg:https://www.merslesbains.fr/wp-content/uploads/2025/05/expo-Dometti-WEB.jpg
END:VEVENT
BEGIN:VEVENT
DTSTART;VALUE=DATE:20250607
DTEND;VALUE=DATE:20250609
DTSTAMP:20260421T043913
CREATED:20250528T074210Z
LAST-MODIFIED:20250528T074210Z
UID:27839-1749254400-1749427199@www.merslesbains.fr
SUMMARY:Brocante école du chat libre
DESCRIPTION:Samedi 7 et dimanche 8 juin  \nBrocante prairie école du chat libre
URL:https://www.merslesbains.fr/event/brocante-ecole-du-chat-libre/
LOCATION:Prairie\, rue des canadiens\, mers-les-bains\, 80350\, France
ATTACH;FMTTYPE=image/png:https://www.merslesbains.fr/wp-content/uploads/2022/03/brocante.jpg.png
END:VEVENT
BEGIN:VEVENT
DTSTART;TZID=Europe/Helsinki:20250607T150000
DTEND;TZID=Europe/Helsinki:20250607T170000
DTSTAMP:20260421T043913
CREATED:20250528T074411Z
LAST-MODIFIED:20250528T074411Z
UID:27841-1749308400-1749315600@www.merslesbains.fr
SUMMARY:Samedi 7 juin  Café Lecture
DESCRIPTION:Samedi 7 juin  \nCafé Lecture \nVenez partager vos derniers coups de cœur lecture le temps d’un moment convivial. \nDe 15h à 17h – Entrée libre – Médiathèque de Mers-les-Bains \nEspace J. Prévert / rue Paul Doumer / tél : 02 35 50 08 46 / mediatheque@ville-merslesbains.fr \nhttps://bibliotheques.villes-soeurs.fr \nwww.merslesbains.fr \nhttps://www.facebook.com/merslesbains \nhttps://www.destination-letreport-mers.fr
URL:https://www.merslesbains.fr/event/samedi-7-juin-cafe-lecture/
LOCATION:Médiathèque\, rue Paul Doumer\, Mers-Les-Bains\, Picardie\, 80350\, France
ATTACH;FMTTYPE=image/jpeg:https://www.merslesbains.fr/wp-content/uploads/2023/08/cafe-lecture-generique-affiche-scaled.jpg
END:VEVENT
BEGIN:VEVENT
DTSTART;TZID=Europe/Helsinki:20250607T150000
DTEND;TZID=Europe/Helsinki:20250607T170000
DTSTAMP:20260421T043913
CREATED:20250602T083252Z
LAST-MODIFIED:20250602T083252Z
UID:27859-1749308400-1749315600@www.merslesbains.fr
SUMMARY:Rencontre et dédicace avec Bénérice Pichat
DESCRIPTION:15H à la médiathèque dans le cadre du prix littéraire 2025 des villes soeurs. \n 
URL:https://www.merslesbains.fr/event/rencontre-et-dedicace-avec-benerice-pichat/
LOCATION:Médiathèque\, rue Paul Doumer\, Mers-Les-Bains\, Picardie\, 80350\, France
ATTACH;FMTTYPE=image/png:https://www.merslesbains.fr/wp-content/uploads/2025/06/rencontre-avec-Berenice-Pichat.png
END:VEVENT
END:VCALENDAR