BEGIN:VCALENDAR
VERSION:2.0
PRODID:-//Mers-les-Bains - ECPv6.5.1.6//NONSGML v1.0//EN
CALSCALE:GREGORIAN
METHOD:PUBLISH
X-WR-CALNAME:Mers-les-Bains
X-ORIGINAL-URL:https://www.merslesbains.fr
X-WR-CALDESC:évènements pour Mers-les-Bains
REFRESH-INTERVAL;VALUE=DURATION:PT1H
X-Robots-Tag:noindex
X-PUBLISHED-TTL:PT1H
BEGIN:VTIMEZONE
TZID:Europe/Helsinki
BEGIN:DAYLIGHT
TZOFFSETFROM:+0200
TZOFFSETTO:+0300
TZNAME:EEST
DTSTART:20250330T010000
END:DAYLIGHT
BEGIN:STANDARD
TZOFFSETFROM:+0300
TZOFFSETTO:+0200
TZNAME:EET
DTSTART:20251026T010000
END:STANDARD
END:VTIMEZONE
BEGIN:VEVENT
DTSTART;VALUE=DATE:20250516
DTEND;VALUE=DATE:20250616
DTSTAMP:20260420T185009
CREATED:20250521T142442Z
LAST-MODIFIED:20250521T142442Z
UID:27829-1747353600-1750031999@www.merslesbains.fr
SUMMARY:Exposition Jean Dometti
DESCRIPTION:Exposition Jean Dometti du 16 mai au 15 juin à la médiathèque. \n 
URL:https://www.merslesbains.fr/event/exposition-jean-dometti/
LOCATION:Médiathèque\, rue Paul Doumer\, Mers-Les-Bains\, Picardie\, 80350\, France
ATTACH;FMTTYPE=image/jpeg:https://www.merslesbains.fr/wp-content/uploads/2025/05/expo-Dometti-WEB.jpg
END:VEVENT
BEGIN:VEVENT
DTSTART;VALUE=DATE:20250523
DTEND;VALUE=DATE:20250602
DTSTAMP:20260420T185009
CREATED:20250428T100951Z
LAST-MODIFIED:20250528T074919Z
UID:27787-1747958400-1748822399@www.merslesbains.fr
SUMMARY:Fête de la ville - attractions foraines
DESCRIPTION:
URL:https://www.merslesbains.fr/event/fete-de-la-ville-attractions-foraines/
LOCATION:Place du marché\, rue roger salengro\, mers-les-bains\, 80350\, France
ATTACH;FMTTYPE=image/jpeg:https://www.merslesbains.fr/wp-content/uploads/2025/04/programme-fete-foraine-V4-scaled.jpg
END:VEVENT
BEGIN:VEVENT
DTSTART;TZID=Europe/Helsinki:20250528T183000
DTEND;TZID=Europe/Helsinki:20250528T200000
DTSTAMP:20260420T185009
CREATED:20250515T071434Z
LAST-MODIFIED:20250519T070243Z
UID:27818-1748457000-1748462400@www.merslesbains.fr
SUMMARY:"La chanson de Roland" pièce de théathe à la médiathèque
DESCRIPTION:Mercredi 28 mai à 18h30 à la médiathèque \nTout public à partir de 12 ans \nEntrée gratuite – réservation auprès de la médiathèque \nhttps://bibliotheque.somme.fr/accueil/l-agenda/272-la-chanson-de-roland-par-la-comedie-de-picardie
URL:https://www.merslesbains.fr/event/la-chanson-de-roland-piece-de-theathe-a-la-mediatheque/
LOCATION:Médiathèque\, rue Paul Doumer\, Mers-Les-Bains\, Picardie\, 80350\, France
ATTACH;FMTTYPE=image/jpeg:https://www.merslesbains.fr/wp-content/uploads/2025/05/chanson-de-roland.jpg
END:VEVENT
END:VCALENDAR