BEGIN:VCALENDAR
VERSION:2.0
PRODID:-//Mers-les-Bains - ECPv6.5.1.6//NONSGML v1.0//EN
CALSCALE:GREGORIAN
METHOD:PUBLISH
X-ORIGINAL-URL:https://www.merslesbains.fr
X-WR-CALDESC:évènements pour Mers-les-Bains
REFRESH-INTERVAL;VALUE=DURATION:PT1H
X-Robots-Tag:noindex
X-PUBLISHED-TTL:PT1H
BEGIN:VTIMEZONE
TZID:Europe/Helsinki
BEGIN:DAYLIGHT
TZOFFSETFROM:+0200
TZOFFSETTO:+0300
TZNAME:EEST
DTSTART:20250330T010000
END:DAYLIGHT
BEGIN:STANDARD
TZOFFSETFROM:+0300
TZOFFSETTO:+0200
TZNAME:EET
DTSTART:20251026T010000
END:STANDARD
END:VTIMEZONE
BEGIN:VEVENT
DTSTART;VALUE=DATE:20250307
DTEND;VALUE=DATE:20250331
DTSTAMP:20260420T134935
CREATED:20250121T085320Z
LAST-MODIFIED:20250121T085745Z
UID:27612-1741305600-1743379199@www.merslesbains.fr
SUMMARY:Exposition Claude Pichard - Photographies -
DESCRIPTION:Vendredi 7 Mars – 30 Mars 2025 \nExposition Claude Pichard \nExposition visible aux horaires d’ouverture de la médiathèque et les jours fériés et dimanches après-midi selon la présence des artistes. \nEspace Jacques Prévert / Médiathèque – Rue Paul Doumer 80350 Mers-les-Bains – Entrée libre \nMédiathèque de Mers-les-Bains / tél. : 02 35 50 08 46 / mediatheque@ville-merslesbains.fr \nService culturel de Mers-les-Bains / tél. : 02 35 50 20 79 / serviceculturel@ville-merslesbains.fr \nhttps://bibliotheques.villes-soeurs.fr \nwww.merslesbains.fr \nhttps://www.facebook.com/merslesbains \nhttps://www.destination-letreport-mers.fr
URL:https://www.merslesbains.fr/event/exposition-claude-pichard-photographies/
LOCATION:Médiathèque\, rue Paul Doumer\, Mers-Les-Bains\, Picardie\, 80350\, France
ATTACH;FMTTYPE=image/jpeg:https://www.merslesbains.fr/wp-content/uploads/2025/01/expo-Claude-Pichard-web.jpg
END:VEVENT
BEGIN:VEVENT
DTSTART;VALUE=DATE:20250307
DTEND;VALUE=DATE:20250331
DTSTAMP:20260420T134935
CREATED:20250121T085953Z
LAST-MODIFIED:20250121T085953Z
UID:27618-1741305600-1743379199@www.merslesbains.fr
SUMMARY:Exposition Dominique Pao & Jean-Claude Renault (Textes)
DESCRIPTION:Vendredi 7 Mars – 30 Mars 2025 \nExposition Dominique Pao & Jean-Claude Renault (Textes) \nExposition visible aux horaires d’ouverture de la médiathèque et les jours fériés et dimanches après-midi selon la présence des artistes. \nEspace Jacques Prévert / Médiathèque – Rue Paul Doumer 80350 Mers-les-Bains – Entrée libre \nMédiathèque de Mers-les-Bains / tél. : 02 35 50 08 46 / mediatheque@ville-merslesbains.fr \nService culturel de Mers-les-Bains / tél. : 02 35 50 20 79 / serviceculturel@ville-merslesbains.fr \nhttps://bibliotheques.villes-soeurs.fr \nwww.merslesbains.fr \nhttps://www.facebook.com/merslesbains \nhttps://www.destination-letreport-mers.fr
URL:https://www.merslesbains.fr/event/exposition-dominique-pao-jean-claude-renault-textes/
LOCATION:Médiathèque\, rue Paul Doumer\, Mers-Les-Bains\, Picardie\, 80350\, France
ATTACH;FMTTYPE=image/jpeg:https://www.merslesbains.fr/wp-content/uploads/2025/01/expo-pao-et-Renault-web.jpg
END:VEVENT
BEGIN:VEVENT
DTSTART;TZID=Europe/Helsinki:20250315T203000
DTEND;TZID=Europe/Helsinki:20250315T230000
DTSTAMP:20260420T134935
CREATED:20250123T080119Z
LAST-MODIFIED:20250310T073451Z
UID:27634-1742070600-1742079600@www.merslesbains.fr
SUMMARY:CONCERT CELTIQUE 15 Mars 2025
DESCRIPTION:CONCERT CELTIQUE\nDonné par notre réputé Brass Band de la Côte Picarde dirigé par Philippe LOTTIN\, ce concert rappellera à beaucoup toute la chaleur et la convivialité des soirées celtiques données il y a quelques années au même endroit. \nSAMEDI 15 MARS 2025 – 20 H 45. GRATUIT.
URL:https://www.merslesbains.fr/event/concert-celtique-15-mars-2025/
LOCATION:Pavillon des Bains
ATTACH;FMTTYPE=image/jpeg:https://www.merslesbains.fr/wp-content/uploads/2025/03/concert-celtique-brass-band-web.jpg
END:VEVENT
END:VCALENDAR